Workbook
Name Lista_Pax: Lista_Pax!$A$1:$P$7
Name Nazionalita: Nazionalita!$B$1:$C$244
Name Tipo_Documento: TipoDocumento!$A$1:$A$4
Name Tipo_Passeggeri: Tipo_Passeggeri!$A$1:$C$18

Sheet Lista_Pax
A1: COGNOME | B1: NOME | C1: GENERE | D1: TIPO | E1: CURE | F1: NUMERO DOCUMENTO | G1: SCADENZA DOCUMENTO (gg/mm/aaaa) | H1: A/R | I1: ASSICURAZIONE | J1: DATA DI NASCITA (gg/mm/aaaa) | K1: LUOGO DI NASCITA | L1: TIPO DOCUMENTO | M1: NAZIONALITA' | N1: ID_TIPO_PAX | O1: TIPO DOCUMENTO | P1: NAZIONALITA'
D2: =IF(YEARFRAC(J2,TODAY())>12,"A",IF(YEARFRAC(J2,TODAY())>=4,"C","I")) -> A | L2: =IF(O2="CIE - CARTA DI IDENTITA' ELETTRONICA","IDC",IF(O2="PASSAPORTO","PAS","")) | M2: =VLOOKUP(P2,Nazionalita!A:B,2,FALSE) -> #N/A | N2: =IF(D2="A",10,IF(D2="C",11,IF(D2="I",8,""))) -> 10
D3: =IF(YEARFRAC(J3,TODAY())>12,"A",IF(YEARFRAC(J3,TODAY())>=4,"C","I")) -> A | L3: =IF(O3="CIE - CARTA DI IDENTITA' ELETTRONICA","IDC",IF(O3="PASSAPORTO","PAS","")) | M3: =VLOOKUP(P3,Nazionalita!A:B,2,FALSE) -> #N/A | N3: =IF(D3="A",10,IF(D3="C",11,IF(D3="I",8,""))) -> 10
D4: =IF(YEARFRAC(J4,TODAY())>12,"A",IF(YEARFRAC(J4,TODAY())>=4,"C","I")) -> A | L4: =IF(O4="CIE - CARTA DI IDENTITA' ELETTRONICA","IDC",IF(O4="PASSAPORTO","PAS","")) | M4: =VLOOKUP(P4,Nazionalita!A:B,2,FALSE) -> #N/A | N4: =IF(D4="A",10,IF(D4="C",11,IF(D4="I",8,""))) -> 10
D5: =IF(YEARFRAC(J5,TODAY())>12,"A",IF(YEARFRAC(J5,TODAY())>=4,"C","I")) -> A | L5: =IF(O5="CIE - CARTA DI IDENTITA' ELETTRONICA","IDC",IF(O5="PASSAPORTO","PAS","")) | M5: =VLOOKUP(P5,Nazionalita!A:B,2,FALSE) -> #N/A | N5: =IF(D5="A",10,IF(D5="C",11,IF(D5="I",8,""))) -> 10
D6: =IF(YEARFRAC(J6,TODAY())>12,"A",IF(YEARFRAC(J6,TODAY())>=4,"C","I")) -> A | L6: =IF(O6="CIE - CARTA DI IDENTITA' ELETTRONICA","IDC",IF(O6="PASSAPORTO","PAS","")) | M6: =VLOOKUP(P6,Nazionalita!A:B,2,FALSE) -> #N/A | N6: =IF(D6="A",10,IF(D6="C",11,IF(D6="I",8,""))) -> 10
D7: =IF(YEARFRAC(J7,TODAY())>12,"A",IF(YEARFRAC(J7,TODAY())>=4,"C","I")) -> A | L7: =IF(O7="CIE - CARTA DI IDENTITA' ELETTRONICA","IDC",IF(O7="PASSAPORTO","PAS","")) | M7: =VLOOKUP(P7,Nazionalita!A:B,2,FALSE) -> #N/A | N7: =IF(D7="A",10,IF(D7="C",11,IF(D7="I",8,""))) -> 10
D46: =IF(YEARFRAC(J46,TODAY())>12,"A",IF(YEARFRAC(J46,TODAY())>=4,"C","I")) -> A | L46: =IF(O46="CIE - CARTA DI IDENTITA' ELETTRONICA","IDC",IF(O46="PASSAPORTO","PAS","")) | M46: =VLOOKUP(P46,Nazionalita!A:B,2,FALSE) -> #N/A | N46: =IF(D46="A",10,IF(D46="C",11,IF(D46="I",8,""))) -> 10
D47: =IF(YEARFRAC(J47,TODAY())>12,"A",IF(YEARFRAC(J47,TODAY())>=4,"C","I")) -> A | L47: =IF(O47="CIE - CARTA DI IDENTITA' ELETTRONICA","IDC",IF(O47="PASSAPORTO","PAS","")) | M47: =VLOOKUP(P47,Nazionalita!A:B,2,FALSE) -> #N/A | N47: =IF(D47="A",10,IF(D47="C",11,IF(D47="I",8,""))) -> 10
D48: =IF(YEARFRAC(J48,TODAY())>12,"A",IF(YEARFRAC(J48,TODAY())>=4,"C","I")) -> A | L48: =IF(O48="CIE - CARTA DI IDENTITA' ELETTRONICA","IDC",IF(O48="PASSAPORTO","PAS","")) | M48: =VLOOKUP(P48,Nazionalita!A:B,2,FALSE) -> #N/A | N48: =IF(D48="A",10,IF(D48="C",11,IF(D48="I",8,""))) -> 10
D49: =IF(YEARFRAC(J49,TODAY())>12,"A",IF(YEARFRAC(J49,TODAY())>=4,"C","I")) -> A | L49: =IF(O49="CIE - CARTA DI IDENTITA' ELETTRONICA","IDC",IF(O49="PASSAPORTO","PAS","")) | M49: =VLOOKUP(P49,Nazionalita!A:B,2,FALSE) -> #N/A | N49: =IF(D49="A",10,IF(D49="C",11,IF(D49="I",8,""))) -> 10
D50: =IF(YEARFRAC(J50,TODAY())>12,"A",IF(YEARFRAC(J50,TODAY())>=4,"C","I")) -> A | L50: =IF(O50="CIE - CARTA DI IDENTITA' ELETTRONICA","IDC",IF(O50="PASSAPORTO","PAS","")) | M50: =VLOOKUP(P50,Nazionalita!A:B,2,FALSE) -> #N/A | N50: =IF(D50="A",10,IF(D50="C",11,IF(D50="I",8,""))) -> 10
D51: =IF(YEARFRAC(J51,TODAY())>12,"A",IF(YEARFRAC(J51,TODAY())>=4,"C","I")) -> A | L51: =IF(O51="CIE - CARTA DI IDENTITA' ELETTRONICA","IDC",IF(O51="PASSAPORTO","PAS","")) | M51: =VLOOKUP(P51,Nazionalita!A:B,2,FALSE) -> #N/A | N51: =IF(D51="A",10,IF(D51="C",11,IF(D51="I",8,""))) -> 10
... D101: =IF(YEARFRAC(J101,TODAY())>12,"A",IF(YEARFRAC(J101,TODAY())>=4,"C","I")) -> A | L101: =IF(O101="CIE - CARTA DI IDENTITA' ELETTRONICA","IDC",IF(O101="PASSAPORTO","PAS","")) | M101: =VLOOKUP(P101,Nazionalita!A:B,2,FALSE) -> #N/A | N101: =IF(D101="A",10,IF(D101="C",11,IF(D101="I",8,""))) -> 10

Sheet TipoDocumento
A1: DESCRIZIONE | B1: CODICE
A3: CIE - CARTA DI IDENTITA' ELETTRONICA | B3: IDC
A4: PASSAPORTO | B4: PAS
A5: CARTA DI IDENTITA' CARTACEA | B5: CHECK

Sheet Nazionalita
A1: DESCRIZIONE | B1: CODICE
A3: ITALY | B3: IT | C3: ;
A4: AFGHANISTAN | B4: AF
A5: ALBANIA | B5: AL
A6: ALGERIA | B6: DZ
A7: AMERICAN SAMOA | B7: AS
A8: ANDORRA | B8: AD
A9: ANGOLA | B9: AO
A10: ANGUILLA | B10: AI
A11: ANTARCTICA | B11: AQ
A12: ANTIGUA AND BARBUDA | B12: AG
A13: ARGENTINA | B13: AR
A14: ARMENIA | B14: AM
A15: ARUBA | B15: AW
... A244: ZIMBABWE | B244: ZW

Sheet Tipo_Passeggeri
A1: IDTIPO | B1: TIPO | C1: DESCRIZIONE
A2: 8 | B2: I | C2: Inf
A3: 10 | B3: A | C3: Adu
A4: 11 | B4: C | C4: Bam
